BEGIN:VCALENDAR
VERSION:2.0
PRODID:-//Covenant Baptist Church - ECPv6.15.1.1//NONSGML v1.0//EN
CALSCALE:GREGORIAN
METHOD:PUBLISH
X-WR-CALNAME:Covenant Baptist Church
X-ORIGINAL-URL:https://www.cbclumberton.com
X-WR-CALDESC:Events for Covenant Baptist Church
REFRESH-INTERVAL;VALUE=DURATION:PT1H
X-Robots-Tag:noindex
X-PUBLISHED-TTL:PT1H
BEGIN:VTIMEZONE
TZID:America/New_York
BEGIN:DAYLIGHT
TZOFFSETFROM:-0500
TZOFFSETTO:-0400
TZNAME:EDT
DTSTART:20160313T070000
END:DAYLIGHT
BEGIN:STANDARD
TZOFFSETFROM:-0400
TZOFFSETTO:-0500
TZNAME:EST
DTSTART:20161106T060000
END:STANDARD
BEGIN:DAYLIGHT
TZOFFSETFROM:-0500
TZOFFSETTO:-0400
TZNAME:EDT
DTSTART:20170312T070000
END:DAYLIGHT
BEGIN:STANDARD
TZOFFSETFROM:-0400
TZOFFSETTO:-0500
TZNAME:EST
DTSTART:20171105T060000
END:STANDARD
BEGIN:DAYLIGHT
TZOFFSETFROM:-0500
TZOFFSETTO:-0400
TZNAME:EDT
DTSTART:20180311T070000
END:DAYLIGHT
BEGIN:STANDARD
TZOFFSETFROM:-0400
TZOFFSETTO:-0500
TZNAME:EST
DTSTART:20181104T060000
END:STANDARD
BEGIN:DAYLIGHT
TZOFFSETFROM:-0500
TZOFFSETTO:-0400
TZNAME:EDT
DTSTART:20190310T070000
END:DAYLIGHT
BEGIN:STANDARD
TZOFFSETFROM:-0400
TZOFFSETTO:-0500
TZNAME:EST
DTSTART:20191103T060000
END:STANDARD
BEGIN:DAYLIGHT
TZOFFSETFROM:-0500
TZOFFSETTO:-0400
TZNAME:EDT
DTSTART:20200308T070000
END:DAYLIGHT
BEGIN:STANDARD
TZOFFSETFROM:-0400
TZOFFSETTO:-0500
TZNAME:EST
DTSTART:20201101T060000
END:STANDARD
BEGIN:DAYLIGHT
TZOFFSETFROM:-0500
TZOFFSETTO:-0400
TZNAME:EDT
DTSTART:20210314T070000
END:DAYLIGHT
BEGIN:STANDARD
TZOFFSETFROM:-0400
TZOFFSETTO:-0500
TZNAME:EST
DTSTART:20211107T060000
END:STANDARD
BEGIN:DAYLIGHT
TZOFFSETFROM:-0500
TZOFFSETTO:-0400
TZNAME:EDT
DTSTART:20220313T070000
END:DAYLIGHT
BEGIN:STANDARD
TZOFFSETFROM:-0400
TZOFFSETTO:-0500
TZNAME:EST
DTSTART:20221106T060000
END:STANDARD
BEGIN:DAYLIGHT
TZOFFSETFROM:-0500
TZOFFSETTO:-0400
TZNAME:EDT
DTSTART:20230312T070000
END:DAYLIGHT
BEGIN:STANDARD
TZOFFSETFROM:-0400
TZOFFSETTO:-0500
TZNAME:EST
DTSTART:20231105T060000
END:STANDARD
BEGIN:DAYLIGHT
TZOFFSETFROM:-0500
TZOFFSETTO:-0400
TZNAME:EDT
DTSTART:20240310T070000
END:DAYLIGHT
BEGIN:STANDARD
TZOFFSETFROM:-0400
TZOFFSETTO:-0500
TZNAME:EST
DTSTART:20241103T060000
END:STANDARD
BEGIN:DAYLIGHT
TZOFFSETFROM:-0500
TZOFFSETTO:-0400
TZNAME:EDT
DTSTART:20250309T070000
END:DAYLIGHT
BEGIN:STANDARD
TZOFFSETFROM:-0400
TZOFFSETTO:-0500
TZNAME:EST
DTSTART:20251102T060000
END:STANDARD
END:VTIMEZONE
BEGIN:VEVENT
DTSTART;TZID=America/New_York:20250927T110000
DTEND;TZID=America/New_York:20250927T150000
DTSTAMP:20260423T163819
CREATED:20250915T234617Z
LAST-MODIFIED:20250915T234619Z
UID:25314-1758970800-1758985200@www.cbclumberton.com
SUMMARY:Covenant Baptist Fall Picnic
DESCRIPTION:Please join us for a Fall Picnic to be held at Covenant Baptist Church! We’d love to have you come and fellowship with us. If you plan to join us please RSVP by filling out the form below. \n\n\n\n\nName(required)\n\n	\n\n\nEmail(required)\n\n	\n\n\nHow many people will be attending?(required)\n\n	\n	\n		Submit
URL:https://www.cbclumberton.com/event/covenant-baptist-fall-picnic/
LOCATION:Covenant Baptist Church\, Lumberton NJ\, 528 Main St.\, Lumberton\, NJ\, 08048\, United States
CATEGORIES:Church Events,Community
ORGANIZER;CN="Shaheed Smith":MAILTO:smith@sasgeospatial.com
END:VEVENT
BEGIN:VEVENT
DTSTART;TZID=America/New_York:20161029T170000
DTEND;TZID=America/New_York:20161029T200000
DTSTAMP:20260423T163820
CREATED:20160919T153809Z
LAST-MODIFIED:20161004T190425Z
UID:24837-1477760400-1477771200@www.cbclumberton.com
SUMMARY:CBC Annual Thanksgiving Dinner
DESCRIPTION:Join Covenant Baptist Church for their annual Thanksgiving Dinner! Enjoy a delicious homecooked meal with friends and family\, giving thanks to God for His many blessings!
URL:https://www.cbclumberton.com/event/cbc-annual-thanksgiving-dinner/
LOCATION:Covenant Baptist Church\, Lumberton NJ\, 528 Main St.\, Lumberton\, NJ\, 08048\, United States
CATEGORIES:Church Events
END:VEVENT
END:VCALENDAR